BEGIN:VCALENDAR
VERSION:2.0
PRODID:-//ChamberMaster//Event Calendar 2.0//EN
METHOD:PUBLISH
X-PUBLISHED-TTL:P1H
REFRESH-INTERVAL:P1H
CALSCALE:GREGORIAN
BEGIN:VTIMEZONE
TZID:America/Chicago
BEGIN:DAYLIGHT
RRULE:FREQ=YEARLY;BYMONTH=3;BYDAY=2SU
DTSTART:20070101T000000
TZOFFSETFROM:-0600
TZOFFSETTO:-0500
TZNAME:Central Daylight Time
END:DAYLIGHT
BEGIN:STANDARD
RRULE:FREQ=YEARLY;BYMONTH=11;BYDAY=1SU
DTSTART:20070101T000000
TZOFFSETFROM:-0500
TZOFFSETTO:-0600
TZNAME:Central Standard Time
END:STANDARD
END:VTIMEZONE
BEGIN:VEVENT
DTSTART;TZID=America/Chicago:20260425T083000
DTEND;TZID=America/Chicago:20260425T153000
X-MICROSOFT-CDO-ALLDAYEVENT:FALSE
SUMMARY:AR250 at UACCB
DESCRIPTION:🌾🚜 You’re invited to AR250 at UACCB!\nJoin us for this FREE regional event designed for educators\, homeschool families\, and community members—packed with hands-on learning and real-world insights into today’s agriculture careers.\n📅 Saturday\, April 25\n⏰ 8:30 a.m. – 3:30 p.m.\nHere’s what to expect:\nExpert speakers & industry insights\nLive drone demonstration\nTour our new Gateway Center\nMaster Gardener Plant Sale\nFree lunch included\nDiscover how agriculture is shaping the future\, and how you can be part of it. 🌱\n📲 Register today: 870-612-2016 or visit https://www.escweb.net/ar_ade/catalog/session.aspx...
X-ALT-DESC;FMTTYPE=text/html:🌾🚜 You’re invited to AR250 at UACCB!\nJoin us for this FREE regional event designed for educators\, homeschool families\, and community members—packed with hands-on learning and real-world insights into today’s agriculture careers.\n📅 Saturday\, April 25\n⏰ 8:30 a.m. – 3:30 p.m.\nHere’s what to expect:\nExpert speakers & industry insights\nLive drone demonstration\nTour our new Gateway Center\nMaster Gardener Plant Sale\nFree lunch included\nDiscover how agriculture is shaping the future\, and how you can be part of it. 🌱\n📲 Register today: 870-612-2016 or visit https://www.escweb.net/ar_ade/catalog/session.aspx...
LOCATION:2005 White Drive Batesville AR 72501
UID:e.2594.1447086
SEQUENCE:3
DTSTAMP:20260420T222025Z
URL:https://members.batesvillearea.com/events/Details/ar250-at-uaccb-1713903?sourceTypeId=Hub
END:VEVENT
END:VCALENDAR
