BEGIN:VCALENDAR
VERSION:2.0
PRODID:-//ChamberMaster//Event Calendar 2.0//EN
METHOD:PUBLISH
X-PUBLISHED-TTL:P1H
REFRESH-INTERVAL:P1H
CALSCALE:GREGORIAN
BEGIN:VTIMEZONE
TZID:America/Chicago
BEGIN:DAYLIGHT
RRULE:FREQ=YEARLY;BYMONTH=3;BYDAY=2SU
DTSTART:20070101T000000
TZOFFSETFROM:-0600
TZOFFSETTO:-0500
TZNAME:Central Daylight Time
END:DAYLIGHT
BEGIN:STANDARD
RRULE:FREQ=YEARLY;BYMONTH=11;BYDAY=1SU
DTSTART:20070101T000000
TZOFFSETFROM:-0500
TZOFFSETTO:-0600
TZNAME:Central Standard Time
END:STANDARD
END:VTIMEZONE
BEGIN:VEVENT
DTSTART;TZID=America/Chicago:20260429T103000
DTEND;TZID=America/Chicago:20260429T110000
X-MICROSOFT-CDO-ALLDAYEVENT:FALSE
SUMMARY:Batesville School District's Mobile Hub Ribbon Cutting
DESCRIPTION:Celebrate Batesville School District's NEW Mobile Hub to meet families where they are. The Mobile Hub will enable the district to provide a mobile family resource center and enable them to provide valuable resources for families that may not have access to the current Hub location in downtown Batesville. The Mobile Hub ribbon cutting event will take place the Batesville High School campus between Pioneer Stadium and the Performing Arts Center. For more information contact Candace Morrow at cmorrow@gobsd1.org or call 870-793-6831.
X-ALT-DESC;FMTTYPE=text/html:Celebrate Batesville School District's NEW Mobile Hub to meet families where they are. The Mobile Hub will enable the district to provide a mobile family resource center and enable them to provide valuable resources for families that may not have access to the current Hub location in downtown Batesville. The Mobile Hub ribbon cutting event will take place the Batesville High School campus between Pioneer Stadium and the Performing Arts Center. For more information contact Candace Morrow at cmorrow@gobsd1.org or call 870-793-6831.
LOCATION:1 Pioneer Drive Batesville 72501
UID:e.2594.1446929
SEQUENCE:3
DTSTAMP:20260420T220721Z
URL:https://members.batesvillearea.com/events/Details/batesville-school-district-s-mobile-hub-ribbon-cutting-1713736?sourceTypeId=Hub
END:VEVENT
END:VCALENDAR
