BEGIN:VCALENDAR
VERSION:2.0
PRODID:-//ChamberMaster//Event Calendar 2.0//EN
METHOD:PUBLISH
X-PUBLISHED-TTL:P1H
REFRESH-INTERVAL:P1H
CALSCALE:GREGORIAN
BEGIN:VTIMEZONE
TZID:America/Chicago
BEGIN:DAYLIGHT
RRULE:FREQ=YEARLY;BYMONTH=3;BYDAY=2SU
DTSTART:20070101T000000
TZOFFSETFROM:-0600
TZOFFSETTO:-0500
TZNAME:Central Daylight Time
END:DAYLIGHT
BEGIN:STANDARD
RRULE:FREQ=YEARLY;BYMONTH=11;BYDAY=1SU
DTSTART:20070101T000000
TZOFFSETFROM:-0500
TZOFFSETTO:-0600
TZNAME:Central Standard Time
END:STANDARD
END:VTIMEZONE
BEGIN:VEVENT
DTSTART;TZID=America/Chicago:20260606T100000
DTEND;TZID=America/Chicago:20260606T120000
X-MICROSOFT-CDO-ALLDAYEVENT:FALSE
SUMMARY:Jeff Owens Memorial Ride 2026
DESCRIPTION:🚴‍♂️Jeff Owens Memorial Ride 2026🚴‍♂️\nJeff Owens was a beloved member of the Batesville Community\, known for his strength\, kindness\, passion for cycling\, and dedication to fitness and service. This cycling ride will go to honor Jeff’s many contributions to Batesville\, but most of all to keep his legacy alive!!
X-ALT-DESC;FMTTYPE=text/html:🚴‍♂️Jeff Owens Memorial Ride 2026🚴‍♂️\nJeff Owens was a beloved member of the Batesville Community\, known for his strength\, kindness\, passion for cycling\, and dedication to fitness and service. This cycling ride will go to honor Jeff’s many contributions to Batesville\, but most of all to keep his legacy alive!!
LOCATION:325 E Main Street Batesville AR
UID:e.2594.1447083
SEQUENCE:3
DTSTAMP:20260420T220141Z
URL:https://members.batesvillearea.com/events/Details/jeff-owens-memorial-ride-2026-1713900?sourceTypeId=Hub
END:VEVENT
END:VCALENDAR
