BEGIN:VCALENDAR
VERSION:2.0
PRODID:-//ChamberMaster//Event Calendar 2.0//EN
METHOD:PUBLISH
X-PUBLISHED-TTL:P1H
REFRESH-INTERVAL:P1H
CALSCALE:GREGORIAN
BEGIN:VTIMEZONE
TZID:America/Chicago
BEGIN:DAYLIGHT
RRULE:FREQ=YEARLY;BYMONTH=3;BYDAY=2SU
DTSTART:20070101T000000
TZOFFSETFROM:-0600
TZOFFSETTO:-0500
TZNAME:Central Daylight Time
END:DAYLIGHT
BEGIN:STANDARD
RRULE:FREQ=YEARLY;BYMONTH=11;BYDAY=1SU
DTSTART:20070101T000000
TZOFFSETFROM:-0500
TZOFFSETTO:-0600
TZNAME:Central Standard Time
END:STANDARD
END:VTIMEZONE
BEGIN:VEVENT
DTSTART;TZID=America/Chicago:20260502T190000
DTEND;TZID=America/Chicago:20260502T210000
X-MICROSOFT-CDO-ALLDAYEVENT:FALSE
SUMMARY:Muumuus & Margaritas at Polk & Paddle
DESCRIPTION:Come join us and the winner with the best muumuu wins a $20 gift certificate from us! 🥳🍹🤑\nMusic provided by Abby Dickey! 🎸🎤🎵🎼
X-ALT-DESC;FMTTYPE=text/html:Come join us and the winner with the best muumuu wins a $20 gift certificate from us! 🥳🍹🤑\nMusic provided by Abby Dickey! 🎸🎤🎵🎼
LOCATION:146 North 3rd Street Batesville AR 72501
UID:e.2594.1447075
SEQUENCE:3
DTSTAMP:20260420T221826Z
URL:https://members.batesvillearea.com/events/Details/muumuus-margaritas-at-polk-paddle-1713892?sourceTypeId=Hub
END:VEVENT
END:VCALENDAR
