BEGIN:VCALENDAR
VERSION:2.0
PRODID:-//ChamberMaster//Event Calendar 2.0//EN
METHOD:PUBLISH
X-PUBLISHED-TTL:P1H
REFRESH-INTERVAL:P1H
CALSCALE:GREGORIAN
BEGIN:VTIMEZONE
TZID:America/Chicago
BEGIN:DAYLIGHT
RRULE:FREQ=YEARLY;BYMONTH=3;BYDAY=2SU
DTSTART:20070101T000000
TZOFFSETFROM:-0600
TZOFFSETTO:-0500
TZNAME:Central Daylight Time
END:DAYLIGHT
BEGIN:STANDARD
RRULE:FREQ=YEARLY;BYMONTH=11;BYDAY=1SU
DTSTART:20070101T000000
TZOFFSETFROM:-0500
TZOFFSETTO:-0600
TZNAME:Central Standard Time
END:STANDARD
END:VTIMEZONE
BEGIN:VEVENT
DTSTART;TZID=America/Chicago:20260423T090000
DTEND;TZID=America/Chicago:20260426T160000
X-MICROSOFT-CDO-ALLDAYEVENT:FALSE
SUMMARY:Outlaw Off Road Racing Hill Climb Race
DESCRIPTION:Outlaw Off Road Racing LLC is returning to Greasy Bend Off-Road Park the weekend of April 23-26 for their 2026 Hill Climb Race Season! These racers will climb the steep\, rocky bluff between Old Rosie and Peg Leg!!\n‼️BUT WAIT\, THERE'S MORE‼️\nGREASY BEND WILL BE OPEN TO JEEPS FOR THIS EVENT WEEKEND!! Tell your jeep off-roading friends!! Can't wait to see you at THE BLUFF and on the trails!!\nWeekend passes will be $60/person
X-ALT-DESC;FMTTYPE=text/html:Outlaw Off Road Racing LLC is returning to Greasy Bend Off-Road Park the weekend of April 23-26 for their 2026 Hill Climb Race Season! These racers will climb the steep\, rocky bluff between Old Rosie and Peg Leg!!\n‼️BUT WAIT\, THERE'S MORE‼️\nGREASY BEND WILL BE OPEN TO JEEPS FOR THIS EVENT WEEKEND!! Tell your jeep off-roading friends!! Can't wait to see you at THE BLUFF and on the trails!!\nWeekend passes will be $60/person
LOCATION:300 Meade Road Batesville AR 72501
UID:e.2594.1447098
SEQUENCE:3
DTSTAMP:20260420T215923Z
URL:https://members.batesvillearea.com/events/Details/outlaw-off-road-racing-hill-climb-race-1713915?sourceTypeId=Hub
END:VEVENT
END:VCALENDAR
