BEGIN:VCALENDAR
VERSION:2.0
PRODID:-//ChamberMaster//Event Calendar 2.0//EN
METHOD:PUBLISH
X-PUBLISHED-TTL:P1H
REFRESH-INTERVAL:P1H
CALSCALE:GREGORIAN
BEGIN:VTIMEZONE
TZID:America/Chicago
BEGIN:DAYLIGHT
RRULE:FREQ=YEARLY;BYMONTH=3;BYDAY=2SU
DTSTART:20070101T000000
TZOFFSETFROM:-0600
TZOFFSETTO:-0500
TZNAME:Central Daylight Time
END:DAYLIGHT
BEGIN:STANDARD
RRULE:FREQ=YEARLY;BYMONTH=11;BYDAY=1SU
DTSTART:20070101T000000
TZOFFSETFROM:-0500
TZOFFSETTO:-0600
TZNAME:Central Standard Time
END:STANDARD
END:VTIMEZONE
BEGIN:VEVENT
DTSTART;TZID=America/Chicago:20260725T203000
DTEND;TZID=America/Chicago:20260725T220000
X-MICROSOFT-CDO-ALLDAYEVENT:FALSE
SUMMARY:Sammy Kershaw Live in Concert
DESCRIPTION:🎉 Get ready\, Cave City!\nCountry music legend Sammy Kershaw is coming to the Cave City Watermelon Festival! 🍉🎶\n📅 Saturday\n⏰ 8:30 PM\n📍 Bank of Cave City Main Stage\nWith iconic hits like “She Don’t Know She’s Beautiful\,” “Queen of My Doublewide Trailer\,” and “Cadillac Style\,” this is a show you don’t want to miss!\n🎤 The concert is FREE — just bring a lawn chair and enjoy an unforgettable night of live music under the summer sky! 🙌✨
X-ALT-DESC;FMTTYPE=text/html:🎉 Get ready\, Cave City!\nCountry music legend Sammy Kershaw is coming to the Cave City Watermelon Festival! 🍉🎶\n📅 Saturday\n⏰ 8:30 PM\n📍 Bank of Cave City Main Stage\nWith iconic hits like “She Don’t Know She’s Beautiful\,” “Queen of My Doublewide Trailer\,” and “Cadillac Style\,” this is a show you don’t want to miss!\n🎤 The concert is FREE — just bring a lawn chair and enjoy an unforgettable night of live music under the summer sky! 🙌✨
LOCATION:W South St Cave City AR 72521
UID:e.2594.1447077
SEQUENCE:3
DTSTAMP:20260420T220037Z
URL:https://members.batesvillearea.com/events/Details/sammy-kershaw-live-in-concert-1713894?sourceTypeId=Hub
END:VEVENT
END:VCALENDAR
